BEGIN:VCALENDAR
VERSION:2.0
PRODID:-//eventon.com NONSGML v1.0//EN
CALSCALE:GREGORIAN
METHOD:PUBLISH
BEGIN:VEVENT
UID:69ed401ea7309
DTSTAMP:20260425T222846Z
DTSTART:20231021T070000Z
DTEND:20231021T170000Z
LOCATION:
SUMMARY:Tren Misionero 2023
DESCRIPTION:«PIES EN CAMINO»  SAN LORENZO DE EL ESCORIAL SÁBADO 21 DE O
 CTUBRE DE 2023  La actividad está dirigida a niños\,  jóvenes y famili
 as (al completo). Se trata de ponernos en marcha\,  de salir de nuestra zon
 a de confort para anunciar la Buena Noticia de Jesús: TODOS JUNTOS\,  UNA
  IGLESIA EN SALIDA\,  EN[..]\nhttps://parroquiamaravillas.es/events/tren-mi
 sionero-2023/
URL:https://parroquiamaravillas.es/events/tren-misionero-2023/
END:VEVENT
END:VCALENDAR