BEGIN:VCALENDAR
VERSION:2.0
PRODID:-//eventon.com NONSGML v1.0//EN
CALSCALE:GREGORIAN
METHOD:PUBLISH
BEGIN:VEVENT
UID:69e739c7f34fa
DTSTAMP:20260421T084807Z
DTSTART:20230314T184500Z
DTEND:20230314T191500Z
LOCATION:Parroquia Santa Maravillas de Jesús Calle Los Morales 64\,  28054 Madrid
SUMMARY:Charla Cuaresmal
DESCRIPTION:Con motivo de la Cuaresma queremos invitaros a las tres charlas
  cuaresmales que tendremos en la parroquia y que será llevadas por persona
 s de la Fundación San José que hace tan buena labor con los enfermos en e
 l hospital de nuestro barrio. Las charlas serán: Martes 14 de marzo: «Sub
 ir[..]\nhttps://parroquiamaravillas.es/events/charla-cuaresmal/
URL:https://parroquiamaravillas.es/events/charla-cuaresmal/
END:VEVENT
END:VCALENDAR