BEGIN:VCALENDAR
VERSION:2.0
PRODID:-//eventon.com NONSGML v1.0//EN
CALSCALE:GREGORIAN
METHOD:PUBLISH
BEGIN:VEVENT
UID:69eb55f6d7b09
DTSTAMP:20260424T113726Z
DTSTART:20231001T111500Z
DTEND:20231001T130000Z
LOCATION:Parroquia Santa Maravillas de Jesús Calle Los Morales 64\,  28054 Madrid
SUMMARY:Paella parroquial
DESCRIPTION:Todos los primeros domingos de mes\,  al término de la misa de
  12:30\,  tendremos en la parroquia un aperitivo parroquial para tomar algo
  juntos e ir haciendo comunidad parroquial. El aperitivo consistirá en un 
 plato de paella y un refresco. ¡Os esperamos!\nhttps://parroquiamaravillas
 .es/events/paella-parroquial-2/
URL:https://parroquiamaravillas.es/events/paella-parroquial-2/
END:VEVENT
END:VCALENDAR