BEGIN:VCALENDAR
VERSION:2.0
PRODID:-//eventon.com NONSGML v1.0//EN
CALSCALE:GREGORIAN
METHOD:PUBLISH
BEGIN:VEVENT
UID:69e734cbe9428
DTSTAMP:20260421T082651Z
DTSTART:20220508T103000Z
DTEND:20220508T111500Z
LOCATION:Parroquia Santa Maravillas de Jesús Calle Los Morales 64\,  28054 Madrid
SUMMARY:Entrega de los Evangelios a los niños de 2º de Comunión
DESCRIPTION:En la misa de 12:30\,  el domingo 8 de mayo\,  haremos entrega 
 a los niños del segundo año de catequesis de Comunión\,  del libro de lo
 s Evangelios.\nhttps://parroquiamaravillas.es/events/entrega-de-los-evangel
 ios-a-los-ninos-de-2o-de-comunion/
URL:https://parroquiamaravillas.es/events/entrega-de-los-evangelios-a-los-ninos-de-2o-de-comunion/
END:VEVENT
END:VCALENDAR